BEGIN:VCALENDAR
VERSION:2.0
PRODID:-//CHASING AWE - ECPv6.15.20//NONSGML v1.0//EN
CALSCALE:GREGORIAN
METHOD:PUBLISH
X-WR-CALNAME:CHASING AWE
X-ORIGINAL-URL:https://ageekmom.com
X-WR-CALDESC:Events for CHASING AWE
REFRESH-INTERVAL;VALUE=DURATION:PT1H
X-Robots-Tag:noindex
X-PUBLISHED-TTL:PT1H
BEGIN:VTIMEZONE
TZID:America/Mexico_City
BEGIN:STANDARD
TZOFFSETFROM:-0600
TZOFFSETTO:-0600
TZNAME:CST
DTSTART:20250101T000000
END:STANDARD
END:VTIMEZONE
BEGIN:VEVENT
DTSTART;VALUE=DATE:20260831
DTEND;VALUE=DATE:20260901
DTSTAMP:20260422T074756
CREATED:20260112T203135Z
LAST-MODIFIED:20260112T203135Z
UID:10000018-1788134400-1788220799@ageekmom.com
SUMMARY:Long March 5 Launch of Chang'e 7
DESCRIPTION:Chang’e 7 robotic lunar exploration mission featuring an orbiter\, a lander\, a mini-hopping probe\, and a rover. \nLaunch date: August 2026
URL:https://ageekmom.com/event/long-march-5-launch-of-change-7/
LOCATION:Wenchang Space Launch Site\, China
CATEGORIES:Test Flight
ATTACH;FMTTYPE=image/png:https://ageekmom.com/wp-content/uploads/2026/01/China_National_Space_Administration.svg.png
END:VEVENT
BEGIN:VEVENT
DTSTART;VALUE=DATE:20261231
DTEND;VALUE=DATE:20270101
DTSTAMP:20260422T074756
CREATED:20260112T191027Z
LAST-MODIFIED:20260112T195103Z
UID:10000010-1798675200-1798761599@ageekmom.com
SUMMARY:Starship Refueling Demo
DESCRIPTION:Demonstration of large-scale orbital refueling of SpaceX’s Starship\, a precursor to SpaceX’s travel beyond low-Earth orbit (LEO). \nLaunch date: Not yet scheduled; may occur in 2026
URL:https://ageekmom.com/event/starship-refueling-demo/
LOCATION:Starbase\, Starbase\, Texas\, United States
CATEGORIES:Test Flight
ATTACH;FMTTYPE=image/svg+xml:https://ageekmom.com/wp-content/uploads/2026/01/SpaceX-Logo.svg
END:VEVENT
BEGIN:VEVENT
DTSTART;VALUE=DATE:20261231
DTEND;VALUE=DATE:20270101
DTSTAMP:20260422T074756
CREATED:20260112T191705Z
LAST-MODIFIED:20260112T191705Z
UID:10000011-1798675200-1798761599@ageekmom.com
SUMMARY:Starship Version 3 Test Flight
DESCRIPTION:Test flight of SpaceX Starship Version 3 \nLaunch date: Not yet scheduled; expected to occur in 2026
URL:https://ageekmom.com/event/starship-version-3-test-flight/
LOCATION:Starbase\, Starbase\, Texas\, United States
CATEGORIES:Test Flight
ATTACH;FMTTYPE=image/svg+xml:https://ageekmom.com/wp-content/uploads/2026/01/SpaceX-Logo.svg
END:VEVENT
BEGIN:VEVENT
DTSTART;VALUE=DATE:20261231
DTEND;VALUE=DATE:20270101
DTSTAMP:20260422T074756
CREATED:20260112T192222Z
LAST-MODIFIED:20260112T195143Z
UID:10000012-1798675200-1798761599@ageekmom.com
SUMMARY:Blue Moon Mark 1 Launch
DESCRIPTION:Blue Origin’s Blue Moon Mark 1 will deliver science and technology to the lunar South Pole \nLaunch date: Not yet scheduled but may occur in 2026
URL:https://ageekmom.com/event/blue-moon-mark-1-launch/
LOCATION:FL
CATEGORIES:Test Flight
ATTACH;FMTTYPE=image/svg+xml:https://ageekmom.com/wp-content/uploads/2026/01/Blue_Origin_new_logo.svg
END:VEVENT
BEGIN:VEVENT
DTSTART;VALUE=DATE:20261231
DTEND;VALUE=DATE:20270101
DTSTAMP:20260422T074756
CREATED:20260112T192738Z
LAST-MODIFIED:20260112T195216Z
UID:10000013-1798675200-1798761599@ageekmom.com
SUMMARY:Rocket Lab Neutron Test Flight
DESCRIPTION:Test flight of Rocket Lab’s Neutron rocket \nLaunch date: Not yet scheduled but may occur in 2026
URL:https://ageekmom.com/event/rocket-lab-neutron-test-flight/
LOCATION:Mid-Atlantic Regional Spaceport (MARS)\, Wallops Flight Facility\, Wallops Island\, VA\, 23337\, United States
CATEGORIES:Test Flight
ATTACH;FMTTYPE=image/png:https://ageekmom.com/wp-content/uploads/2026/01/Rocket_Lab_logo.svg.png
END:VEVENT
BEGIN:VEVENT
DTSTART;VALUE=DATE:20261231
DTEND;VALUE=DATE:20270101
DTSTAMP:20260422T074756
CREATED:20260112T195007Z
LAST-MODIFIED:20260112T195300Z
UID:10000014-1798675200-1798761599@ageekmom.com
SUMMARY:Stoke Space Nova Test Flight
DESCRIPTION:Inaugural flight of Stoke Space’s Nova reusable rocket \nLaunch date: Not yet scheduled but may occur in 2026
URL:https://ageekmom.com/event/stoke-space-nova-test-flight/
LOCATION:Cape Canaveral Space Force Station\, Space Launch Complex 14 (SLC-14)\, FL\, United States
CATEGORIES:Test Flight
ATTACH;FMTTYPE=image/png:https://ageekmom.com/wp-content/uploads/2026/01/Stoke_Space_SVG_logo.svg.png
END:VEVENT
BEGIN:VEVENT
DTSTART;VALUE=DATE:20261231
DTEND;VALUE=DATE:20270101
DTSTAMP:20260422T074756
CREATED:20260112T200532Z
LAST-MODIFIED:20260112T200532Z
UID:10000015-1798675200-1798761599@ageekmom.com
SUMMARY:Long March 10A with Mengzhou
DESCRIPTION:Inaugural launch of China’s Long March 10A rocket with their larger\, lunar-capable Mengzhou spacecraft which has flown before and is intended to replace the Shenzhou spacecraft.  \nLaunch date: Unknown\, but may launch in 2026
URL:https://ageekmom.com/event/long-march-10a-with-mengzhou/
LOCATION:Wenchang Space Launch Site\, China
CATEGORIES:Test Flight
ATTACH;FMTTYPE=image/jpeg:https://ageekmom.com/wp-content/uploads/2026/01/casc-china-aerospace-science-and-technology-corp-logo-hg-2862231084.jpg
END:VEVENT
BEGIN:VEVENT
DTSTART;VALUE=DATE:20261231
DTEND;VALUE=DATE:20270101
DTSTAMP:20260422T074756
CREATED:20260112T201548Z
LAST-MODIFIED:20260112T201759Z
UID:10000016-1798675200-1798761599@ageekmom.com
SUMMARY:Launch of VAST Haven-1 on Falcon 9
DESCRIPTION:Launch of the first crewed habitat of the world’s first commercial space station prior to the International Space Station’s retirement in 2030 \nLaunch date: Not scheduled\, but may occur in 2026
URL:https://ageekmom.com/event/launch-of-vast-haven-1-on-falcon-9/
LOCATION:FL
CATEGORIES:Test Flight
ATTACH;FMTTYPE=image/png:https://ageekmom.com/wp-content/uploads/2026/01/Vast_Wordmark_2024.svg.png
END:VEVENT
BEGIN:VEVENT
DTSTART;VALUE=DATE:20261231
DTEND;VALUE=DATE:20270101
DTSTAMP:20260422T074756
CREATED:20260112T202606Z
LAST-MODIFIED:20260112T202606Z
UID:10000017-1798675200-1798761599@ageekmom.com
SUMMARY:Launch of NASA's Nancy Grace Roman Space Telescope
DESCRIPTION:Named in honor of NASA’s first chief astronomer\, the Nancy Grace Roman Space Telescope will have a field of view over 100x larger than the Hubble Space Telescope (HST) and it will perform wide-area surveys of the universe. \nLaunch date: Not yet scheduled but may occur in 2026
URL:https://ageekmom.com/event/launch-of-nasas-nancy-grace-roman-space-telescope/
LOCATION:FL
CATEGORIES:Satellite Launch
ATTACH;FMTTYPE=image/webp:https://ageekmom.com/wp-content/uploads/2026/01/nasa-logo-web-rgb-e1768236640979.webp
END:VEVENT
BEGIN:VEVENT
DTSTART;VALUE=DATE:20261231
DTEND;VALUE=DATE:20270101
DTSTAMP:20260422T074756
CREATED:20260112T203608Z
LAST-MODIFIED:20260112T203655Z
UID:10000019-1798675200-1798761599@ageekmom.com
SUMMARY:Terran R Test Flight
DESCRIPTION:Test flight of Terran R heavy-lift rocket \nLaunch date: Not yet scheduled; may occur in 2026
URL:https://ageekmom.com/event/terran-r-test-flight/
LOCATION:Cape Canaveral Space Force Station\, Space Launch Complex 16 (SLC-16)\, FL\, United States
CATEGORIES:Test Flight
ATTACH;FMTTYPE=image/svg+xml:https://ageekmom.com/wp-content/uploads/2026/01/Relativity_Space_Logo.svg
END:VEVENT
BEGIN:VEVENT
DTSTART;VALUE=DATE:20261231
DTEND;VALUE=DATE:20270101
DTSTAMP:20260422T074756
CREATED:20260112T203950Z
LAST-MODIFIED:20260112T203950Z
UID:10000020-1798675200-1798761599@ageekmom.com
SUMMARY:Eclipse Test Flight
DESCRIPTION:Test flight of Firefly Aerospace’s medium-lift rocket developed in partnership with Northrup Grumman. \nLaunch date: Not yet scheduled; may occur in late 2026
URL:https://ageekmom.com/event/eclipse-test-flight/
LOCATION:FL
CATEGORIES:Test Flight
ATTACH;FMTTYPE=image/png:https://ageekmom.com/wp-content/uploads/2026/01/Firefly_Aerospace.svg.png
END:VEVENT
BEGIN:VEVENT
DTSTART;VALUE=DATE:20261231
DTEND;VALUE=DATE:20270101
DTSTAMP:20260422T074756
CREATED:20260112T204523Z
LAST-MODIFIED:20260112T204523Z
UID:10000021-1798675200-1798761599@ageekmom.com
SUMMARY:IM-3 Falcon 9 Launch
DESCRIPTION:Intuitive Machines’ lunar mission to send its third Nova-C lander to the Reiner Gamma region of the Moon. \nLaunch date: Not yet scheduled; may occur in the second half of 2026
URL:https://ageekmom.com/event/im-3-falcon-9-launch/
LOCATION:Kennedy Space Center\, Launch Complex 39-A (LC 39-A)\, United States
CATEGORIES:Test Flight
ATTACH;FMTTYPE=image/png:https://ageekmom.com/wp-content/uploads/2026/01/Intuitive_Machines_light-on-dark_cropped.png
END:VEVENT
BEGIN:VEVENT
DTSTART;VALUE=DATE:20261231
DTEND;VALUE=DATE:20270101
DTSTAMP:20260422T074756
CREATED:20260112T205005Z
LAST-MODIFIED:20260112T205005Z
UID:10000022-1798675200-1798761599@ageekmom.com
SUMMARY:Blue Ghost Mission 2 Launch
DESCRIPTION:Successor to Firefly Aerospace’s successful inaugural mission to the Moon’s surfaced in March 2025\, Blue Ghost 2 targets the far side of the Moon with three spacecraft (Blue Ghost’s lander\, orbiter\, and ESA lander).
URL:https://ageekmom.com/event/blue-ghost-mission-2-launch/
LOCATION:Cape Canaveral Space Force Station\, Space Launch Complex 40 (SLC-40)\, FL\, United States
CATEGORIES:Test Flight
ATTACH;FMTTYPE=image/png:https://ageekmom.com/wp-content/uploads/2026/01/Firefly_Aerospace.svg.png
END:VEVENT
BEGIN:VEVENT
DTSTART;VALUE=DATE:20261231
DTEND;VALUE=DATE:20270101
DTSTAMP:20260422T074756
CREATED:20260112T211700Z
LAST-MODIFIED:20260112T211700Z
UID:10000023-1798675200-1798761599@ageekmom.com
SUMMARY:Geosynchronous Refueling Mission
DESCRIPTION:First refueling of a (U.S. military) satellite above U.S. geosynchronous orbit more than 22K miles (36km) above Earth. \nLaunch date: Not yet scheduled but may occur in 2026
URL:https://ageekmom.com/event/geosynchronous-refueling-mission/
LOCATION:FL
CATEGORIES:Test Flight
ATTACH;FMTTYPE=image/svg+xml:https://ageekmom.com/wp-content/uploads/2026/01/Astroscale_logo.svg
END:VEVENT
BEGIN:VEVENT
DTSTART;VALUE=DATE:20261231
DTEND;VALUE=DATE:20270101
DTSTAMP:20260422T074756
CREATED:20260112T212523Z
LAST-MODIFIED:20260112T231338Z
UID:10000024-1798675200-1798761599@ageekmom.com
SUMMARY:Ariane 62 Launch of PLATO Space Telescope
DESCRIPTION:European Space Agency’s PLATO (PLAnetary Transits and Oscillations of stars) space telescope will search for planetary transits across 1M stars to discover and characterize rocky extrasolar planets with a focus on Earth-like planets in the habitable zone around Sun-like stars where water can exist in a liquid state. \nLaunch Date: Not yet scheduled but may occur in 2026
URL:https://ageekmom.com/event/ariane-62-launch-of-plato-space-telescope/
LOCATION:Guiana Space Centre/Kourou\, Ariane Launch Complex 4 (ELA-4)\, Kourou\, French Guiana
CATEGORIES:Satellite Launch
ATTACH;FMTTYPE=image/jpeg:https://ageekmom.com/wp-content/uploads/2026/01/ESA_logo_2020_Deep-1024x643-1.jpg
END:VEVENT
BEGIN:VEVENT
DTSTART;VALUE=DATE:20261231
DTEND;VALUE=DATE:20270101
DTSTAMP:20260422T074756
CREATED:20260112T212936Z
LAST-MODIFIED:20260112T212936Z
UID:10000025-1798675200-1798761599@ageekmom.com
SUMMARY:Gaganyaan
DESCRIPTION:Uncrewed orbital test flight of India’s Gaganyaan capsule \nLaunch Date: Not known but may occur in 2026
URL:https://ageekmom.com/event/gaganyaan/
LOCATION:FL
CATEGORIES:Test Flight
ATTACH;FMTTYPE=image/svg+xml:https://ageekmom.com/wp-content/uploads/2026/01/Indian_Space_Research_Organisation_Logo.svg
END:VEVENT
BEGIN:VEVENT
DTSTART;VALUE=DATE:20261231
DTEND;VALUE=DATE:20270101
DTSTAMP:20260422T074756
CREATED:20260112T213412Z
LAST-MODIFIED:20260112T213412Z
UID:10000026-1798675200-1798761599@ageekmom.com
SUMMARY:H3 Launch of Martian Moons Exploration (MMX)
DESCRIPTION:Launch of the Japan Aerospace Exploration Agency’s (JAXA) new H3 rocket carrying the MMX mission bound for the Martian moon Phobos to collect samples and return them to Earth by 2031. \nLaunch Date: TBD\, but expected in 2026
URL:https://ageekmom.com/event/h3-launch-of-martian-moons-exploration-mmx/
LOCATION:FL
CATEGORIES:Test Flight
ATTACH;FMTTYPE=image/svg+xml:https://ageekmom.com/wp-content/uploads/2026/01/Jaxa_logo.svg
END:VEVENT
END:VCALENDAR